BEGIN:VCALENDAR
VERSION:2.0
PRODID:-//Internationaler Skilehrerverband - ECPv6.15.17.1//NONSGML v1.0//EN
CALSCALE:GREGORIAN
METHOD:PUBLISH
X-WR-CALNAME:Internationaler Skilehrerverband
X-ORIGINAL-URL:https://isia.ski
X-WR-CALDESC:Events for Internationaler Skilehrerverband
REFRESH-INTERVAL;VALUE=DURATION:PT1H
X-Robots-Tag:noindex
X-PUBLISHED-TTL:PT1H
BEGIN:VTIMEZONE
TZID:Europe/Berlin
BEGIN:DAYLIGHT
TZOFFSETFROM:+0100
TZOFFSETTO:+0200
TZNAME:CEST
DTSTART:20250330T010000
END:DAYLIGHT
BEGIN:STANDARD
TZOFFSETFROM:+0200
TZOFFSETTO:+0100
TZNAME:CET
DTSTART:20251026T010000
END:STANDARD
BEGIN:DAYLIGHT
TZOFFSETFROM:+0100
TZOFFSETTO:+0200
TZNAME:CEST
DTSTART:20260329T010000
END:DAYLIGHT
BEGIN:STANDARD
TZOFFSETFROM:+0200
TZOFFSETTO:+0100
TZNAME:CET
DTSTART:20261025T010000
END:STANDARD
BEGIN:DAYLIGHT
TZOFFSETFROM:+0100
TZOFFSETTO:+0200
TZNAME:CEST
DTSTART:20270328T010000
END:DAYLIGHT
BEGIN:STANDARD
TZOFFSETFROM:+0200
TZOFFSETTO:+0100
TZNAME:CET
DTSTART:20271031T010000
END:STANDARD
END:VTIMEZONE
BEGIN:VEVENT
DTSTART;VALUE=DATE:20260424
DTEND;VALUE=DATE:20260425
DTSTAMP:20260424T192554
CREATED:20260312T165207Z
LAST-MODIFIED:20260312T165457Z
UID:7695-1776988800-1777075199@isia.ski
SUMMARY:ISIA Technical Test ski / Switzerland
DESCRIPTION:Venue: Zermatt\nRace: 24 April 2026 \nTraining: No training possible\nOrganiser: Swiss Snowsports Asscociation\nApplication to: eduction@snowsports.ch\nDeadline Registration: 25 March 2026 \n20251026_ ISIA TT ALPINE template_Zermatt_apa
URL:https://isia.ski/event/isia-technical-test-ski-switzerland/
LOCATION:Zermatt\, Switzerland
ATTACH;FMTTYPE=image/png:https://isia.ski/UP1/wp-content/uploads/Schweiz-klein.png
ORGANIZER;CN="Swiss Snowsports":MAILTO:education@snowsports.ch
END:VEVENT
BEGIN:VEVENT
DTSTART;TZID=Europe/Berlin:20260522T080000
DTEND;TZID=Europe/Berlin:20260524T170000
DTSTAMP:20260424T192554
CREATED:20260415T105017Z
LAST-MODIFIED:20260415T105017Z
UID:7732-1779436800-1779642000@isia.ski
SUMMARY:ISIA Assembly of the Delegates
DESCRIPTION:
URL:https://isia.ski/event/isia-assembly-of-the-delegates/
LOCATION:San Marino
ATTACH;FMTTYPE=image/png:https://isia.ski/UP1/wp-content/uploads/image-4.png
END:VEVENT
END:VCALENDAR